Workbook
Name Abandonment_camp_hire: Rates!$C$103
Name Abandonment_camp_hire_rate: Rates!$D$103
Name Abandonment_rig_and_crew_hire: Rates!$C$104
Name Abandonment_rig_and_crew_hire_rate: Rates!$D$104
Name Aboveground: Lists!$B$114
Name Accounting_Administration_Clerical_Office_Services: Rates!$C$16
Name Accounting_Administration_Clerical_Office_Services_rates: Rates!$D$16
Name Activated_carbon_buy_dispose: Rates!$C$119
Name Activated_carbon_buy_dispose_rate: Rates!$D$119
Name Air_Compressor_tools: Rates!$C$80
Name Air_Compressor_tools_rate: Rates!$D$80
Name Ameliorants_app_rate: Assumptions!$C$44:$C$48
Name Ameliorants_names: Assumptions!$B$44:$B$48
Name Ameliorants_soil_names_As: Assumptions!$B$44:$B$48
Name Arid: Lists!$B$63
Name Asphalt_density: Assumptions!$C$87
Name Asphalt_thickness: Assumptions!$C$80
Name Associate_Engineer_Geologist_Scientist: Rates!$C$9
Name Associate_Engineer_Geologist_Scientist_rate: Rates!$D$9
Name Assumptions: Assumptions!$B$4
Name Auditor_Director: Rates!$C$14
Name Auditor_Director_rate: Rates!$D$14
Name Backhoe_420F: Rates!$C$66
Name Backhoe_420F_rate: Rates!$D$66
Name Backhoe_428F_4WD: Rates!$C$67
Name Backhoe_428F_4WD_rate: Rates!$D$67
Name Backhoe_attachments: Rates!$C$68
Name Backhoe_attachments_rate: Rates!$D$68
Name Barrier_plug_volume: Assumptions!$C$112
Name Borrow_Pit: Lists!$B$60
Name Buried: Lists!$B$115
Name Cementing_plant_and_crew: Rates!$C$106
Name Cementing_plant_and_crew_rate: Rates!$D$106
Name Concrete_break_rate: Productivity!$C$45
Name Concrete_cost: Rates!$C$85
Name Concrete_cost_per_m3: Rates!$D$85
Name Concrete_crush_30mm: Productivity!$C$19
Name Concrete_crush_50mm: Productivity!$C$18
Name Concrete_crush_75mm: Productivity!$C$17
Name Concrete_crushing_plant: Rates!$C$69
Name Concrete_crushing_plant_rate: Rates!$D$69
Name Concrete_cutter_portable: Rates!$C$82
Name Concrete_cutter_portable_rate: Rates!$D$82
Name Concrete_density: Assumptions!$C$75
Name Concrete_disposal_distance: Assumptions!$C$58
Name Concrete_footing_Module: Assumptions!$C$79
Name Concrete_Pump: Rates!$C$84
Name Concrete_Pump_rate: Rates!$D$84
Name Concrete_slab_thickness_buildings: Assumptions!$C$77
Name Concrete_slab_thickness_heavy: Assumptions!$C$76
Name Concrete_surface_cover_Parking: Assumptions!$C$78
Name Concrete_truck_packing_factor: Assumptions!$C$82
Name Construction_labour: Rates!$C$23
Name Construction_labour_rate: Rates!$D$23
Name Contingency_percentage: Assumptions!$C$72
Name Conventional_gas: Lists!$B$141
Name Conventional_oil: Lists!$B$142
Name Cost_Schedule: 'Cost Schedule'!$B$4
Name Crane_120t: Rates!$C$27
Name Crane_120t_rate: Rates!$D$27

Sheet Information
B3: INFORMATION
B7: Project: | D7: South Australia Oil and Gas Financial Assurance Calculator
B9: Company:
B11: Sitename / Entry name: | D11: Enter project name in Information tab
B13: Sites
B19: Estimated cost: | D19: =Input!I130 -> 0
B21: General User Notes:
B28: Purpose and Scope: | D28: This calculator estimates the cost to decommission and rehabilitate oil and gas activities in South Australia, including input sheets for wells, pipelines, facilities, water storage, infrastructure and exploration. The calculator uses a first-principle, bottom calculation method with costs and scopes informed by industry and the calculator developer's experience. The calculator was commissioned by the South Australian Department for Energy and Mining (DEM). The developers and DEM hold no liability for the accuracy of the costs estimates and the Calculator does not purport to contain all the information required to estimate the decommissioning liability.
B30: Terms and Conditions: | D30: By using this calculator, the User agrees to the following Terms and Conditions: 1. The rehabilitation liability estimate calculator (the calculator) may only be used subject to, and for the purposes described in, these terms and conditions of use. In using the calculator, the licensee agrees to be bound by these terms and conditions of use. 2. The calculator is a general tool provided by the Department for Energy and Mining (the department) to assist licensees in estimating rehabilitation liabilities associated with the decommissioning and rehabilitation of energy resource projects. 3. Rehabilitation liability estimates are used in the determination of financial security required pursuant to the Energy Resources Act 2000. 4. The calculator is indicative only and does not constitute a final or binding determination by the department. 5. Licensees must ensure they use the most up to date version of the calculator by checking the departmental website. The department may revise the rates and/or formulae used in the calculator at any time without notice but is not under any obligation to do so. 6. The licensee should rely on their own independent investigations, assessments, review and analysis in using the calculator. 7. The output of the calculator will depend upon the accuracy of the information entered by the user concerning the relevant approved license and current and future conditions. 8. Submission of a rehabilitation liability estimate generated using the calculator does not guarantee acceptance by the department. 9. The department reserves the right to review, verify and amend any estimate, including the inputs provided by the licensee, and/or the resulting calculations generated by the calculator. 10. The third-party rates included in the calculator must not be altered. 11. Licensees may provide alternative unit rates where appropriate, provided sufficient supporting documentation is submitted for the department’s consideration. The department may at its sole discretion, accept or reject any alternative rates. 12. To the maximum extent permitted by law, the department makes no representations or warranties, express or implied, regarding the calculator, including its accuracy, reliability, completeness, performance or fitness for any particular purpose. 13. To the maximum extent permitted by law, the department excludes all liability (whether in negligence or otherwise) for any loss, damage, cost or expense (including direct, indirect, or consequential loss, loss of revenue, profit, contracts or opportunity, and legal costs) incurred by the licensee arising from or in connection with: o Use of, or inability to use the calculator; o reliance on the calculator or is outputs; o errors or omissions in the calculator or its underlying data; or o any virus, malicious code or system interference arising from the use of the calculator. 14. The department does not warrant that the calculator will be free from viruses or compatible with the licensee’s systems. Licensees are responsible for implementing appropriate safeguards to protect their systems and data.
B32: Navigation: | C32: User Guide | D32: How to use the tool.
C33: Input | D33: User input sheet and summary of costs.
C34: Cost Schedule | D34: Summary of costs for activities.
C35: Rates | D35: List of base rates for equipment, labour, materials.
C36: Productivity | D36: Assumptions for earthmoving movement rates, storage capacities, travel speeds.
C37: Assumptions | D37: General assumptions for material properties (e.g. density), working day hours, specific weights.
B39: Revision History: | C39: 46212 | D39: First complete draft to SA DEM.
C40: 46264 | D40: Revised after addressing DEM queries and simplifying sheets.
C41: 46265 | D41: Minor modifications including removal of Summary hyperlink in this sheet.
C42: 46280 | D42: Changes to Terms and Conditions and add filter to input sheet.

Sheet User Guide
B7: =Project_Name -> South Australia Oil and Gas Financial Assurance Calculator
B8: Return to Information
B10: USER GUIDE
B12: Tool Overview
B36: How to Use: Sequence of Steps
B38: # | C38: Step instruction | M38: Hyperlink
B39: 1 | C39: Review the Terms and Conditions in this sheet. | M39: Information
B40: =B39+1 -> 2 | C40: Ensure you understand the purpose, scope and limitations of the calculator. | M40: Information
B41: =B40+1 -> 3 | C41: Enter company name and project site(s) and any general notes. | M41: Information
B42: =B41+1 -> 4 | C42: Go to the input sheet. | M42: Input
B43: 5 | C43: The main entry sheet is the Input Sheet and the key attributes are shown below. Enter the quantities to the top left hand side of the sheet, as shown below.
B48: =B43+1 -> 6 | C48: The downwell entries have an associated drop-down selection as shown below. The calculator populates the appropriate rate based on the user selection.
B51: =B48+1 -> 7 | C51: All the unit rates for activities (e.g. seismic rehabilitation) are listed with the guidance on use and the scope assumptions in the Cost Schedule tab.
B53: =B51+1 -> 8 | C53: If you wish to enter a user cost rate to over-ride the default calculator rate, enter your rate in the User Rate column in the Input sheet. As can be seen below, the calculator will take the user entered value.
C54: To assist the Department, add a note justifying the User rate.
B56: =B53+1 -> 9 | C56: Enter any notes to the right hand column as shown.
B57: =B56+1 -> 10 | C57: The Rates sheet lists all the underlying unit rates; the Productivity sheet shows the activity rates, speeds and application rates; and the Assumptions sheet shows general assumptions used to build the cost shown in the Cost Schedule.
B59: Rates Sheet
B81: General Information
B82: =B57+1 -> 11 | C82: Quantities are never expected to be entered twice. Where there are more than one table for an activity, for example buildings by area and buildings by number, the User enters quantities for a specific building to one table only. The intent of the two tables is to provide flexibility. For example if a User
C83: has limited building information, they may chose to enter the by number table. Users can enter to both tables but must not enter the same building to both tables.
B84: =B82+1 -> 12 | C84: The sheets have hyperlinks to allow quick navigation between sheets.

Sheet Input
B2: =Project_Name -> South Australia Oil and Gas Financial Assurance Calculator
B4: Return to Information | C4: =Site_name -> Enter project name in Information tab
B6: INPUT
B8: Item | C8: Value | D8: Unit | E8: Rate | F8: User rate | G8: Rate Selected | H8: Rate Unit | I8: Cost | J8: Notes
B9: 1. Exploration | I9: =SUBTOTAL(9,I10:I17) -> 0
B10: ='Cost Schedule'!B7 -> Seismic 2D | D10: ='Cost Schedule'!D7 -> km | E10: ='Cost Schedule'!C7 -> 1500 | G10: =IF(F10="",E10,F10) -> 1500 | H10: =D10 -> km | I10: =C10*G10 -> 0
B11: ='Cost Schedule'!B8 -> Seismic 3D | D11: ='Cost Schedule'!D8 -> ha | E11: ='Cost Schedule'!C8 -> 4200 | G11: =IF(F11="",E11,F11) -> 4200 | H11: =D11 -> ha | I11: =C11*G11 -> 0
B12: ='Cost Schedule'!B9 -> Track 3 m wide | D12: ='Cost Schedule'!D9 -> km | E12: ='Cost Schedule'!C9 -> 800 | G12: =IF(F12="",E12,F12) -> 800 | H12: =D12 -> km | I12: =C12*G12 -> 0
B13: ='Cost Schedule'!B10 -> Track 6 m wide | D13: ='Cost Schedule'!D10 -> km | E13: ='Cost Schedule'!C10 -> 1500 | G13: =IF(F13="",E13,F13) -> 1500 | H13: =D13 -> km | I13: =C13*G13 -> 0
B14: ='Cost Schedule'!B11 -> Drilling Mud-Sump | D14: ='Cost Schedule'!D11 -> sump | E14: ='Cost Schedule'!C11 -> 2900 | G14: =IF(F14="",E14,F14) -> 2900 | H14: =D14 -> sump | I14: =C14*G14 -> 0
B15: ='Cost Schedule'!B12 -> Exploration dam | D15: ='Cost Schedule'!D12 -> dam | E15: ='Cost Schedule'!C12 -> 14000 | G15: =IF(F15="",E15,F15) -> 14000 | H15: =D15 -> dam | I15: =C15*G15 -> 0
B16: ='Cost Schedule'!B13 -> Land used for exploration activities | D16: ='Cost Schedule'!D13 -> ha | E16: ='Cost Schedule'!C13 -> 2700 | G16: =IF(F16="",E16,F16) -> 2700 | H16: =D16 -> ha | I16: =C16*G16 -> 0
B17: ='Cost Schedule'!B14 -> Exploration bore | D17: ='Cost Schedule'!D14 -> hole | E17: ='Cost Schedule'!C14 -> 900 | G17: =IF(F17="",E17,F17) -> 900 | H17: =D17 -> hole | I17: =C17*G17 -> 0
B18: 2. Infrastructure | I18: =SUBTOTAL(9,I19:I39) -> 0
B19: ='Cost Schedule'!B24 -> Track 3 m wide | D19: ='Cost Schedule'!D24 -> km | E19: ='Cost Schedule'!C24 -> 800 | G19: =IF(F19="",E19,F19) -> 800 | H19: =D19 -> km | I19: =G19*C19 -> 0
B20: ='Cost Schedule'!B25 -> Track 6 m wide | D20: ='Cost Schedule'!D25 -> km | E20: ='Cost Schedule'!C25 -> 1500 | G20: =IF(F20="",E20,F20) -> 1500 | H20: =D20 -> km | I20: =G20*C20 -> 0
B21: ='Cost Schedule'!B26 -> Laydown | D21: ='Cost Schedule'!D26 -> ha | E21: ='Cost Schedule'!C26 -> 6100 | G21: =IF(F21="",E21,F21) -> 6100 | H21: =D21 -> ha | I21: =G21*C21 -> 0
B22: ='Cost Schedule'!B27 -> Borrow Pit | D22: ='Cost Schedule'!D27 -> ha | E22: ='Cost Schedule'!C27 -> 5200 | G22: =IF(F22="",E22,F22) -> 5200 | H22: =D22 -> ha | I22: =G22*C22 -> 0
B23: ='Cost Schedule'!B28 -> Mobile camp | D23: ='Cost Schedule'!D28 -> m2 | E23: ='Cost Schedule'!C28 -> 39.145025 | G23: =IF(F23="",E23,F23) -> 39.145025 | H23: =D23 -> m2 | I23: =G23*C23 -> 0
B24: ='Cost Schedule'!B29 -> Permanent camp | D24: ='Cost Schedule'!D29 -> m2 | E24: ='Cost Schedule'!C29 -> 51.525966 | G24: =IF(F24="",E24,F24) -> 51.525966 | H24: =D24 -> m2 | I24: =G24*C24 -> 0
B25: ='Cost Schedule'!B30 -> Buildings - steel | D25: ='Cost Schedule'!D30 -> m2 | E25: ='Cost Schedule'!C30 -> 90 | G25: =IF(F25="",E25,F25) -> 90 | H25: =D25 -> m2 | I25: =G25*C25 -> 0
B26: ='Cost Schedule'!B31 -> Buildings - brick | D26: ='Cost Schedule'!D31 -> m2 | E26: ='Cost Schedule'!C31 -> 120 | G26: =IF(F26="",E26,F26) -> 120 | H26: =D26 -> m2 | I26: =G26*C26 -> 0
B27: ='Cost Schedule'!B32 -> Communications tower | D27: ='Cost Schedule'!D32 -> structure | E27: ='Cost Schedule'!C32 -> 22000 | G27: =IF(F27="",E27,F27) -> 22000 | H27: =D27 -> structure | I27: =G27*C27 -> 0
B28: ='Cost Schedule'!B33 -> Utilities | D28: ='Cost Schedule'!D33 -> site | E28: ='Cost Schedule'!C33 -> 37000 | G28: =IF(F28="",E28,F28) -> 37000 | H28: =D28 -> site | I28: =G28*C28 -> 0
B29: ='Cost Schedule'!B34 -> Substations | D29: ='Cost Schedule'!D34 -> m2 | E29: ='Cost Schedule'!C34 -> 60 | G29: =IF(F29="",E29,F29) -> 60 | H29: =D29 -> m2 | I29: =G29*C29 -> 0
B30: ='Cost Schedule'!B35 -> Power generation | D30: ='Cost Schedule'!D35 -> MW | E30: ='Cost Schedule'!C35 -> 200 | G30: =IF(F30="",E30,F30) -> 200 | H30: =D30 -> MW | I30: =G30*C30 -> 0
... B39: ='Cost Schedule'!B44 -> Reinjection bore | D39: ='Cost Schedule'!D44 -> bore | E39: ='Cost Schedule'!C44 -> 7000 | G39: =IF(F39="",E39,F39) -> 7000 | H39: =D39 -> bore | I39: =G39*C39 -> 0
B40: 3. Wells - Surface Rehabilitation | I40: =SUBTOTAL(9,I41:I46) -> 0
B41: ='Cost Schedule'!B91 -> Coreholes | D41: ='Cost Schedule'!D91 -> hole | E41: ='Cost Schedule'!C91 -> 170 | G41: =IF(F41="",E41,F41) -> 170 | H41: =D41 -> hole | I41: =G41*C41 -> 0
B42: ='Cost Schedule'!B92 -> Plugged and abandoned oil or gas well | D42: ='Cost Schedule'!D92 -> hole | E42: ='Cost Schedule'!C92 -> 800 | G42: =IF(F42="",E42,F42) -> 800 | H42: =D42 -> hole | I42: =G42*C42 -> 0
B43: ='Cost Schedule'!B93 -> Conventional oil well with no or limited equipment | D43: ='Cost Schedule'!D93 -> m2 | E43: ='Cost Schedule'!C93 -> 0.76171022 | G43: =IF(F43="",E43,F43) -> 0.76171022 | H43: =D43 -> m2 | I43: =G43*C43 -> 0
B44: ='Cost Schedule'!B94 -> Conventional oil well with equipment | D44: ='Cost Schedule'!D94 -> m2 | E44: ='Cost Schedule'!C94 -> 2.4905949 | G44: =IF(F44="",E44,F44) -> 2.4905949 | H44: =D44 -> m2 | I44: =G44*C44 -> 0
B45: ='Cost Schedule'!B95 -> Conventional gas well with no or limited equipment | D45: ='Cost Schedule'!D95 -> m2 | E45: ='Cost Schedule'!C95 -> 1.0888722 | G45: =IF(F45="",E45,F45) -> 1.0888722 | H45: =D45 -> m2 | I45: =G45*C45 -> 0
B46: ='Cost Schedule'!B96 -> Conventional gas well with equipment | D46: ='Cost Schedule'!D96 -> m2 | E46: ='Cost Schedule'!C96 -> 1.3872805 | G46: =IF(F46="",E46,F46) -> 1.3872805 | H46: =D46 -> m2 | I46: =G46*C46 -> 0
B47: 4. Wells - Downwell | I47: =SUBTOTAL(9,I48:I62) -> 0
B48: ='Cost Schedule'!B99 -> Abandonment plan | D48: ='Cost Schedule'!D99 -> campaign | E48: ='Cost Schedule'!C99 -> 44000 | G48: =IF(F48="",E48,F48) -> 44000 | H48: =D48 -> campaign | I48: =G48*C48 -> 0
B49: ='Cost Schedule'!B100 -> Abandonment Drilling Rig Mobe / Demobe >=0 to <150 km one way | D49: ='Cost Schedule'!D100 -> campaign | E49: ='Cost Schedule'!C100 -> 29000 | G49: =IF(F49="",E49,F49) -> 29000 | H49: =D49 -> campaign | I49: =G49*C49 -> 0
B50: ='Cost Schedule'!B101 -> Abandonment Drilling Rig Mobe / Demobe >=150 to <500 km one way | D50: ='Cost Schedule'!D101 -> campaign | E50: ='Cost Schedule'!C101 -> 66000 | G50: =IF(F50="",E50,F50) -> 66000 | H50: =D50 -> campaign | I50: =G50*C50 -> 0
B51: ='Cost Schedule'!B102 -> Abandonment Drilling Rig Mobe / Demobe >=500 to <1000 km one way | D51: ='Cost Schedule'!D102 -> campaign | E51: ='Cost Schedule'!C102 -> 124000 | G51: =IF(F51="",E51,F51) -> 124000 | H51: =D51 -> campaign | I51: =G51*C51 -> 0
B52: ='Cost Schedule'!B103 -> Abandonment Drilling Rig Mobe / Demobe > 1000 km one way | D52: ='Cost Schedule'!D103 -> campaign | E52: ='Cost Schedule'!C103 -> 160000 | G52: =IF(F52="",E52,F52) -> 160000 | H52: =D52 -> campaign | I52: =G52*C52 -> 0
...

Sheet Cost Schedule
B2: =Project_Name -> South Australia Oil and Gas Financial Assurance Calculator
B3: Return to Information
B4: Cost Schedule | E4: Use | F4: Scope
B6: Exploration
B7: Seismic 2D | C7: 1500 | D7: km | E7: Enter the length of 2D seismic easement to be rehabilitated. | F7: Fleet comprising Labour (General), Backhoe 420F 4WD, Utility allowance for seed (average of native, pasture and no seed rates.
B8: Seismic 3D | C8: 4200 | D8: ha | E8: Enter the area of 3D seismic easement to be rehabilitated. | F8: Fleet comprising Labour (General), Backhoe 420F 4WD, Utility allowance for seed (average of native, pasture and no seed rates.
B9: Track 3 m wide | C9: 800 | D9: km | E9: Enter the length of shown width (or close to) track to be rehabilitated. | F9: Earthmoving fleet comprising grader to rip surface, replace local growth media and seed with seeding cost assumed to be the average of pasture, native, and no seed. No rock removal.
B10: Track 6 m wide | C10: 1500 | D10: km | E10: Enter the length of shown width (or close to) track to be rehabilitated. | F10: Earthmoving fleet comprising grader to rip surface, replace local growth media and seed with seeding cost assumed to be the average of pasture, native, and no seed. No rock removal.
B11: Drilling Mud-Sump | C11: 2900 | D11: sump | E11: Enter the number of drilling sumps to be rehabilitated. | F11: Mix, bury, cover using Excavator 20t supported by Labour (General).
B12: Exploration dam | C12: 14000 | D12: dam | E12: Enter the number of water ponds / dams to be rehabilitated. | F12: Clean water supply dam up to 5 ML volume.
B13: Land used for exploration activities | C13: 2700 | D13: ha | E13: Enter the area of land beneath third-party owned camps and equipment (e.g. water treatment facility) to be rehabilitated. | F13: Production rate of 0.5 ha/h, fleet comprising Labour (General), Grader 12M, and Utility. Reseeding of 1 of area using average rate of pasture, native and no seed.
B14: Exploration bore | C14: 900 | D14: hole | E14: Enter the number of exploration bores to be rehabilitated. | F14: Fleet comprising Labour (General), Backhoe 420F 4WD, Utility.
B16: Facilities
B17: Standalone gas compressor | C17: 12400 | D17: compressor | E17: Enter the number of stand-alone gas compressor units that must be disconnected and transported off-site. | F17: Includes allowance for purging / removal of liquids, mechanical and electrical disconnection, removal of pipe and cable tray, lifting and transport unit as a whole, allowance for incidental waste, small contaminated land investigation, fencing and minor land rehabilitation. Costs for waste management are included. No offset for scrap or equipment re-use, no charge for steel into recycling facilites and no charge for storage of reuseable items.
B18: Gas processing facility | C18: 25000 | D18: TJ/day | E18: Enter the total nameplate processing capacity of conventional gas processing facilities that must be decommissioned and the land rehabilitated. Enter quantities for associated ponds and dams and water management facilities separately. | F18: Includes allowance for purging / removal of liquids, mechanical and electrical disconnection of modules and transport for storage, removal of pipe and cable tray, demolition of concrete plinths and footings, demolition of buildings and transport of portable buildings, allowance for incidental waste, contaminated land investigation, fencing, gravel removal and land rehabilitation. Costs for waste management are included. Costs for any associated ponds and dams, wells and pipeline (pipeline not assoicated with the plant) are not included. No offset for scrap or equipment re-use, no charge for steel into recycling facilites and no charge for storage of reuseable items.
B19: Oil storage facility | C19: 1000 | D19: kL | E19: Enter the total nameplate storage capacity of conventional oil processing facilities that must be decommissioned and the land rehabilitated. | F19: Includes allowance for removal of liquids, mechanical and electrical disconnection of tanks and associated equipment and transport for storage, removal of pipe and cable tray, demolition of concrete plinths and footings, demolition of buildings and transport of portable buildings, allowance for incidental waste, contaminated land investigation, fencing, gravel removal and land rehabilitation. Costs for waste management are included. Costs for any associated ponds and dams, wells and pipeline (pipeline not assoicated with the plant) are not included. No offset for scrap or equipment re-use, no charge for steel into recycling facilites and no charge for storage of reuseable items.
B20: Water treatment plant | C20: 64000 | D20: ML/day | E20: Enter the total nameplate processing capacity of water treatment facilities that must be decommissioned and the land rehabilitated. | F20: Includes mechanical and electrical disconnection of treatment modules (e.g reverse osmosis containers), tanks and associated equipment and transport for storage / scrap, removal of pipe and cable tray, demolition of concrete plinths and footings, demolition of buildings and transport of portable buildings, allowance for incidental waste, contaminated land investigation, fencing, gravel removal and land rehabilitation. Costs for waste management are included. Costs for any associated ponds and dams, wells and pipeline (pipeline not assoicated with the plant) are not included. No offset for scrap or equipment re-use, no charge for steel into recycling facilites and no charge for storage of reuseable items.
B21: Water transfer station | C21: 20 | D21: kL | E21: Enter the total nameplate storage capacity of water transfer facilities that must be decommissioned and the land rehabilitated. | F21: Includes mechanical and electrical disconnection tanks and associated equipment and transport for storage / scrap, removal of pipe and cable tray, demolition of concrete plinths and footings, demolition of buildings and transport of portable buildings, allowance for incidental waste, contaminated land investigation, fencing, gravel removal and land rehabilitation. Costs for waste management are included. Costs for any associated ponds and dams, wells and pipeline (pipeline not assoicated with the plant) are not included. No offset for scrap or equipment re-use, no charge for steel into recycling facilites and no charge for storage of reuseable items.
B23: Infrastructure
B24: Track 3 m wide | C24: 800 | D24: km | E24: Enter the total length of shown width (or close to) track to be rehabilitated. | F24: Earthmoving fleet comprising grader to rip surface, replace local growth media and seed with seeding cost assumed to be the average of pasture, native, and no seed. No rock removal.
B25: Track 6 m wide | C25: 1500 | D25: km | E25: Enter the total length of shown width (or close to) track to be rehabilitated. | F25: Earthmoving fleet comprising grader to rip surface, replace local growth media and seed with seeding cost assumed to be the average of pasture, native, and no seed. No rock removal.
B26: Laydown | C26: 6100 | D26: ha | E26: Enter the total area of laydown to be rehabilitated. This rate can be used for tracks and roads if the proponent has area quantities rather than length. | F26: Earthmoving fleet comprising grader to rip surface and remove rock / gravel, replace local growth media and seed with seeding cost assumed to be the average of pasture, native, and no seed. Cost is the average of earthen and rock / gravel covered laydown.
B27: Borrow Pit | C27: 5200 | D27: ha | E27: Enter the area of borrow pit to be rehabilitated. | F27: Earthmoving fleet comprising grader to rip surface and remove rock / gravel, replace local growth media and seed with seeding cost assumed to be the average of pasture, native, and no seed. Cost is the average of earthen and rock / gravel covered laydown.
B28: Mobile camp | C28: 39.145025 | D28: m2 | E28: Enter the total footprint area of mobile camps owned by the proponent to be decommissioned and rehabilitated. If the camp is leased, use "Land used for exploration activities" rate. | F28: Mobile camp up to 50 persons. Disconnect accomodation, mess, laundry modules electrically and mechanically, transport to storage, no concrete or hardstand. No recreation facilities. Removal of diesel generator, replace local growth media and seed. Includes waste disposal.
B29: Permanent camp | C29: 51.525966 | D29: m2 | E29: Enter the total footprint area of permanent camps owned by the proponent to be decommissioned and rehabilitated. If the camp is leased, use "Land used for exploration activities" rate. | F29: Permanent camp up to 5000 persons. Allowance for liquid removal (e.g. washwater). Disconnect accomodation, mess, laundry modules electrically and mechanically, transport to storage. Demolish and transport concrete footings and hardstand. Allowance for removal of recreation facilities. Remove diesel generator to storage. Remove gravel surface covering, replace local growth media and seed. Includes waste disposal.
B30: Buildings - steel | C30: 90 | D30: m2 | E30: Enter the total footprint area of steel buildings that are not associated with other rates on the list. For clarity, allowances for buildings are included in processing plant and other rates and do not need to be added here. For multi-storey buildings multiply the footprint by the number of floors. | F30: Demolition of steel walled and roof building with concrete slab. Disconnect electrically and mechanically. Demolish, cut-up and transport steel for scrap (no offset and no gate fee) to storage, demolish concrete footings and slab. Land rehabilitation assumed included with other facilities such as processing plants. Includes waste disposal.
B31: Buildings - brick | C31: 120 | D31: m2 | E31: Enter the total footprint area of brick or concrete buildings that are not associated with other rates on the list. For clarity, allowances for buildings are included in processing plant and other rates and do not need to be added here. For multi-storey buildings multiply the footprint by the number of floors. | F31: Demolition of brick walled building with steel roof and concrete slab. Disconnect electrically and mechanically. Demolish, and brick for disposal, demolish concrete footings and slab. Land rehabilitation assumed included with other facilities such as processing plants. Includes waste disposal.
B32: Communications tower | C32: 22000 | D32: structure | E32: Enter the total number of communications towers to be decommissioned and the land rehabilitated. | F32: Disconnect electrically and mechanically. Pull / dismantle structure, transport steel for scrap (no offset or gate fee) and electronics to storage. Demolish concrete footings and dispose.
B33: Utilities | C33: 37000 | D33: site | E33: Enter the total number of sites where utilities must be disconnected. Typically this will one per facility. | F33: Electricians and mechanical labour to disconnect electrical, gas, water, and communications to site.
B34: Substations | C34: 60 | D34: m2 | E34: Enter the total footprint area of substations that must be decommissioned and the land rehabilitated. | F34: Disconnect transformers and associated equipment electrically and mechanically and transport to storage. Cut-up and transport cable tray. Demolish and transport concrete footings and hardstand. Allowance for liquid removal (e.g. transformer oil). Remove gravel surface covering, replace local growth media and seed. Includes waste disposal.
B35: Power generation | C35: 200 | D35: MW | E35: Enter the total nameplate power generation capacity that must be decommissioned and the land rehabilitated. | F35: Disconnect power generation units (e.g. gas turbines) and associated equipment electrically and mechanically and transport to storage. Cut-up and transport cable tray. Demolish and transport concrete footings and hardstand. Includes buildings. Remove gravel surface covering, replace local growth media and seed. Includes waste disposal.
... B44: Reinjection bore | C44: 7000 | D44: bore | E44: Enter the total number of reinjection bores that must be decommissioned and the land rehabilitated. | F44: Fleet comprising Labour (General), Backhoe 420F 4WD, Utility. Plug, backfill or grout well (average cost for these methods). Includes allowance for surface equipment and is assumed to be deeper and larger diameter than a monitoring bore.
B46: Land Rehabilitation
B47: Maintenance of rehabilitated areas | C47: 530 | D47: ha | E47: Enter the area of land for minor rehabilitation (e.g. rut repair, reseed). | F47: Inspection rate of 10 ha/h, fleet comprising Labour (General), Backhoe 420F 4WD, and Utility. Reseeding of 25% of area using average rate of pasture, native and no seed.
B48: Rehabilitation repair | C48: 2100 | D48: ha | E48: Enter the area of land requiring substantial repair (e.g. due to erosion) that is not part of the other activities in this list (e.g. land rehabilitation for a gas plant is included in that rate). | F48: Repair rate of 5 ha/h, fleet comprising Labour (General), Backhoe 420F 4WD, and Utility. Reseeding of 100% of area using average rate of pasture, native and no seed.
B49: Pest / land management on buffer lands, non-disturbed, and rehabilitated areas | C49: 450 | D49: ha | E49: Enter the area of land to for pest / weed treatment. | F49: Inspection / treatment rate of 1 ha/h, fleet comprising and Utility. No reseeding.
B50: Growth media source, supply and place | C50: 180 | D50: tonne | E50: Enter the volume of growth media that is required outside of the activities on this list. For example areas outside well pads, pipeline easements and facilities. This row can also be used to enter any additional growth media requirements on facilities or other disturbance. For clarity, a default growth media thickness shown in the Assumptions is included in the rates in this list. However, if it is known that substantially more material will be required or must be imported, this row can be used. | F50: Load, transport, and place growth media. One-way transport distance shown in Assumptions.
B51: Ameliorant source, supply and place | C51: 3200 | D51: ha | E51: Enter the area of land requiring of amelioration. Ameliorants are not included in the other rates in this list. Consequently any material requirements (e.g. if an area is known to have sodic soil and the land must be returned to pasture) must be added to this row. | F51: Load, transport, and place growth ameliorants (e.g. gypsum and lime). One-way transport distance shown in Assumptions.
B52: Revegetation | C52: 2000 | D52: ha | E52: Enter the area of land requiring revegetation outside of the activities on this list. For example areas outside well pads, pipeline easements and facilities. For clarity, costs are allowed for re-vegetation in the rates on this list. | F52: Average of pasture and native seed.
B53: Preliminary site investigation | C53: 10000 | D53: investigation | E53: Enter the number of investigations. | F53: Allowance for consultant labour and database company to provide and evaluate historical and current use and source and receptor information.
...

Sheet Abandon wells
B2: =Project_Name -> South Australia Oil and Gas Financial Assurance Calculator
B3: Return to Information
B5: Wells | C5: Unit | E5: =CONCATENATE("Vertical well > ",E$27,"m to <= ",E$28,"m depth, ",E$45," strings / completion, ",E$56," barriers.") -> Vertical well > 0m to <= 500m depth, 1 strings / completion, 1 barriers. | F5: =CONCATENATE("Vertical well > ",F$27,"m to <= ",F$28,"m depth, ",F$45," strings / completion, ",F56," barriers.") -> Vertical well > 500m to <= 1000m depth, 1 strings / completion, 1 barriers. | G5: =CONCATENATE("Vertical well > ",G$27,"m to <= ",G$28,"m depth, ",G$45," strings / completion, ",G56," barriers.") -> Vertical well > 1000m to <= 2000m depth, 1 strings / completion, 1 barriers. | H5: =CONCATENATE("Vertical well > ",H$27,"m to <= ",H$28,"m depth, ",H$45," strings / completion, ",H56," barriers.") -> Vertical well > 2000m to <= 3000m depth, 1 strings / completion, 1 barriers. | I5: =CONCATENATE("Vertical well > ",I$27,"m to <= ",I$28,"m depth, ",I$45," strings / completion, ",I56," barriers.") -> Vertical well > 3000m to <= 4000m depth, 1 strings / completion, 1 barriers. | J5: =CONCATENATE("Vertical well > ",J$27,"m to <= ",J$28,"m depth, ",J$45," strings / completion, ",J56," barriers.") -> Vertical well > 4000m to <= 5000m depth, 1 strings / completion, 1 barriers. | K5: =CONCATENATE("Vertical well > ",K$27,"m to <= ",K$28,"m depth, ",K$45," strings / completion, ",K56," barriers.") -> Vertical well > 5000m to <= 6000m depth, 1 strings / completion, 1 barriers. | L5: =CONCATENATE("Vertical well > ",L$27,"m to <= ",L$28,"m depth, ",L$45," strings / completion, ",L56," barriers.") -> Vertical well > 0m to <= 500m depth, 1 strings / completion, 2 barriers. | M5: =CONCATENATE("Vertical well > ",M$27,"m to <= ",M$28,"m depth, ",M$45," strings / completion, ",M56," barriers.") -> Vertical well > 500m to <= 1000m depth, 1 strings / completion, 2 barriers. | ... AT5: =CONCATENATE("Vertical well > ",AT$27,"m to <= ",AT$28,"m depth, ",AT$45," strings / completion, ",AT56," barriers.") -> Vertical well > 5000m to <= 6000m depth, 1 strings / completion, 6 barriers.
B6: Summary of Costs
B7: Stabilise well | C7: well | E7: =E42 -> 11574.131 | F7: =F42 -> 34722.393 | G7: =G42 -> 68899.574 | H7: =H42 -> 114650.89 | I7: =I42 -> 160402.2 | J7: =J42 -> 206153.51 | K7: =K42 -> 251904.82 | L7: =L42 -> 11574.131 | ... AT7: =AT42 -> 251904.82
B8: Remove downwell equipment | C8: well | E8: =E49 -> 2000 | F8: =F49 -> 6000 | G8: =G49 -> 12000 | H8: =H49 -> 20000 | I8: =I49 -> 28000 | J8: =J49 -> 36000 | K8: =K49 -> 44000 | L8: =L49 -> 2000 | ... AT8: =AT49 -> 44000
B9: Clean out bore | C9: well | E9: =E53 -> 5000 | F9: =F53 -> 10000 | G9: =G53 -> 15000 | H9: =H53 -> 20000 | I9: =I53 -> 25000 | J9: =J53 -> 30000 | K9: =K53 -> 35000 | L9: =L53 -> 5000 | ... AT9: =AT53 -> 35000
B10: Install and Inspect Plugs | C10: well | E10: =E60 -> 126530.15 | F10: =F60 -> 126530.15 | G10: =G60 -> 126530.15 | H10: =H60 -> 126530.15 | I10: =I60 -> 126530.15 | J10: =J60 -> 126530.15 | K10: =K60 -> 126530.15 | L10: =L60 -> 253060.3 | ... AT10: =AT60 -> 759180.9
B11: Equipment Move between wells | C11: well | E11: =E64 -> 25000 | F11: =F64 -> 25000 | G11: =G64 -> 25000 | H11: =H64 -> 25000 | I11: =I64 -> 25000 | J11: =J64 -> 25000 | K11: =K64 -> 25000 | L11: =L64 -> 25000 | ... AT11: =AT64 -> 25000
B12: Camp and Catering | C12: well | E12: =E69 -> 2027.1239 | F12: =F69 -> 2391.3717 | G12: =G69 -> 2892.7433 | H12: =H69 -> 3531.2389 | I12: =I69 -> 4169.7345 | J12: =J69 -> 4808.23 | K12: =K69 -> 5446.7256 | L12: =L69 -> 3377.1239 | ... AT12: =AT69 -> 12196.726
E14: =CONCATENATE("Horizontal well > ",E$27,"m to <= ",E$28,"m length, ",E$45," strings / completion, ",E$56," barriers.") -> Horizontal well > 0m to <= 500m length, 1 strings / completion, 1 barriers. | F14: =CONCATENATE("Horizontal well > ",F$27,"m to <= ",F$28,"m length, ",F$45," strings / completion, ",F$56," barriers.") -> Horizontal well > 500m to <= 1000m length, 1 strings / completion, 1 barriers. | G14: =CONCATENATE("Horizontal well > ",G$27,"m to <= ",G$28,"m length, ",G$45," strings / completion, ",G$56," barriers.") -> Horizontal well > 1000m to <= 2000m length, 1 strings / completion, 1 barriers. | H14: =CONCATENATE("Horizontal well > ",H$27,"m to <= ",H$28,"m length, ",H$45," strings / completion, ",H$56," barriers.") -> Horizontal well > 2000m to <= 3000m length, 1 strings / completion, 1 barriers. | I14: =CONCATENATE("Horizontal well > ",I$27,"m to <= ",I$28,"m length, ",I$45," strings / completion, ",I$56," barriers.") -> Horizontal well > 3000m to <= 4000m length, 1 strings / completion, 1 barriers. | J14: =CONCATENATE("Horizontal well > ",J$27,"m to <= ",J$28,"m length, ",J$45," strings / completion, ",J$56," barriers.") -> Horizontal well > 4000m to <= 5000m length, 1 strings / completion, 1 barriers. | K14: =CONCATENATE("Horizontal well > ",K$27,"m to <= ",K$28,"m length, ",K$45," strings / completion, ",K$56," barriers.") -> Horizontal well > 5000m to <= 6000m length, 1 strings / completion, 1 barriers. | L14: =CONCATENATE("Horizontal well > ",L$27,"m to <= ",L$28,"m length, ",L$45," strings / completion, ",L$56," barriers.") -> Horizontal well > 0m to <= 500m length, 1 strings / completion, 2 barriers. | ... AT14: =CONCATENATE("Horizontal well > ",AT$27,"m to <= ",AT$28,"m length, ",AT$45," strings / completion, ",AT$56," barriers.") -> Horizontal well > 5000m to <= 6000m length, 1 strings / completion, 6 barriers.
B15: Total | C15: per vertical well | E15: =SUM(E7:E12) -> 172131.4 | F15: =SUM(F7:F12) -> 204643.91 | G15: =SUM(G7:G12) -> 250322.47 | H15: =SUM(H7:H12) -> 309712.28 | I15: =SUM(I7:I12) -> 369102.08 | J15: =SUM(J7:J12) -> 428491.89 | K15: =SUM(K7:K12) -> 487881.7 | L15: =SUM(L7:L12) -> 300011.55 | ... AT15: =SUM(AT7:AT12) -> 1127282.4
B16: Total (rounded) | C16: per vertical well | E16: =CEILING(E15,1000) -> 173000 | F16: =CEILING(F15,1000) -> 205000 | G16: =CEILING(G15,1000) -> 251000 | H16: =CEILING(H15,1000) -> 310000 | I16: =CEILING(I15,1000) -> 370000 | J16: =CEILING(J15,1000) -> 429000 | K16: =CEILING(K15,1000) -> 488000 | L16: =CEILING(L15,1000) -> 301000 | ... AT16: =CEILING(AT15,1000) -> 1128000
C17: per metre (vertical) | E17: =E16/E29 -> 692 | F17: =F16/F29 -> 273.33333 | G17: =G16/G29 -> 167.33333 | H17: =H16/H29 -> 124 | I17: =I16/I29 -> 105.71429 | J17: =J16/J29 -> 95.333333 | K17: =K16/K29 -> 88.727273 | L17: =L16/L29 -> 1204 | ... AT17: =AT16/AT29 -> 205.09091
E19: =CONCATENATE("Vertical well, depth ",E$27," to ",E$28,"m, ",E$45," strings / completion") -> Vertical well, depth 0 to 500m, 1 strings / completion | F19: =CONCATENATE("Vertical well, depth ",F$27," to ",F$28,"m, ",F$45," strings / completion") -> Vertical well, depth 500 to 1000m, 1 strings / completion | G19: =CONCATENATE("Vertical well, depth ",G$27," to ",G$28,"m, ",G$45," strings / completion") -> Vertical well, depth 1000 to 2000m, 1 strings / completion | H19: =CONCATENATE("Vertical well, depth ",H$27," to ",H$28,"m, ",H$45," strings / completion") -> Vertical well, depth 2000 to 3000m, 1 strings / completion | I19: =CONCATENATE("Vertical well, depth ",I$27," to ",I$28,"m, ",I$45," strings / completion") -> Vertical well, depth 3000 to 4000m, 1 strings / completion | J19: =CONCATENATE("Vertical well, depth ",J$27," to ",J$28,"m, ",J$45," strings / completion") -> Vertical well, depth 4000 to 5000m, 1 strings / completion | K19: =CONCATENATE("Vertical well, depth ",K$27," to ",K$28,"m, ",K$45," strings / completion") -> Vertical well, depth 5000 to 6000m, 1 strings / completion | L19: =CONCATENATE("Vertical well, depth ",L$27," to ",L$28,"m, ",L$45," strings / completion") -> Vertical well, depth 0 to 500m, 1 strings / completion | ... AT19: =CONCATENATE("Vertical well, depth ",AT$27," to ",AT$28,"m, ",AT$45," strings / completion") -> Vertical well, depth 5000 to 6000m, 1 strings / completion
B20: Multiplier for Horizontal well | C20: X | D20: 1.2 | E20: =D20 -> 1.2 | F20: =E20 -> 1.2 | G20: =F20 -> 1.2 | H20: =G20 -> 1.2 | I20: =H20 -> 1.2 | J20: =I20 -> 1.2 | K20: =J20 -> 1.2 | L20: =K20 -> 1.2 | ... AT20: =AS20 -> 1.2
B21: Total | C21: per horizontal well | E21: =E15*E20 -> 206557.69 | F21: =F15*F20 -> 245572.7 | G21: =G15*G20 -> 300386.96 | H21: =H15*H20 -> 371654.73 | I21: =I15*I20 -> 442922.5 | J21: =J15*J20 -> 514190.27 | K21: =K15*K20 -> 585458.04 | L21: =L15*L20 -> 360013.87 | ... AT21: =AT15*AT20 -> 1352738.9
B22: Total (rounded) | C22: per horizontal well | E22: =CEILING(E21,1000) -> 207000 | F22: =CEILING(F21,1000) -> 246000 | G22: =CEILING(G21,1000) -> 301000 | H22: =CEILING(H21,1000) -> 372000 | I22: =CEILING(I21,1000) -> 443000 | J22: =CEILING(J21,1000) -> 515000 | K22: =CEILING(K21,1000) -> 586000 | L22: =CEILING(L21,1000) -> 361000 | ... AT22: =CEILING(AT21,1000) -> 1353000
C23: per metre (horizontal) | E23: =E22/E29 -> 828 | F23: =F22/F29 -> 328 | G23: =G22/G29 -> 200.66667 | H23: =H22/H29 -> 148.8 | I23: =I22/I29 -> 126.57143 | J23: =J22/J29 -> 114.44444 | K23: =K22/K29 -> 106.54545 | L23: =L22/L29 -> 1444 | ... AT23: =AT22/AT29 -> 246
B25: Well diameter and depth
B26: Well diameter | C26: mm | E26: =Assumptions!$C$111 -> 200 | F26: =Assumptions!$C$111 -> 200 | G26: =Assumptions!$C$111 -> 200 | H26: =Assumptions!$C$111 -> 200 | I26: =Assumptions!$C$111 -> 200 | J26: =Assumptions!$C$111 -> 200 | K26: =Assumptions!$C$111 -> 200 | L26: =Assumptions!$C$111 -> 200 | ... AT26: =Assumptions!$C$111 -> 200
B27: Well depth / length minimum | C27: m | E27: 0 | F27: =E28 -> 500 | G27: =F28 -> 1000 | H27: =G28 -> 2000 | I27: =H28 -> 3000 | J27: =I28 -> 4000 | K27: =J28 -> 5000 | L27: =E27 -> 0 | M27: =F27 -> 500 | N27: =G27 -> 1000 | O27: =H27 -> 2000 | P27: =I27 -> 3000 | Q27: =J27 -> 4000 | R27: =K27 -> 5000 | S27: =L27 -> 0 | ... AT27: =AM27 -> 5000
B28: Well depth / length maximum | C28: m | E28: =E27+500 -> 500 | F28: =F27+500 -> 1000 | G28: =F28+1000 -> 2000 | H28: =G28+1000 -> 3000 | I28: =H28+1000 -> 4000 | J28: =I28+1000 -> 5000 | K28: =J28+1000 -> 6000 | L28: =E28 -> 500 | M28: =F28 -> 1000 | N28: =G28 -> 2000 | O28: =H28 -> 3000 | P28: =I28 -> 4000 | Q28: =J28 -> 5000 | R28: =K28 -> 6000 | S28: =L28 -> 500 | ... AT28: =AM28 -> 6000
B29: Well depth / length average | C29: m | E29: =AVERAGE(E27:E28) -> 250 | F29: =AVERAGE(F27:F28) -> 750 | G29: =AVERAGE(G27:G28) -> 1500 | H29: =AVERAGE(H27:H28) -> 2500 | I29: =AVERAGE(I27:I28) -> 3500 | J29: =AVERAGE(J27:J28) -> 4500 | K29: =AVERAGE(K27:K28) -> 5500 | L29: =AVERAGE(L27:L28) -> 250 | ... AT29: =AVERAGE(AT27:AT28) -> 5500
B31: Stabilise well
B32: Casing volume | C32: m3 | E32: =E29*PI()*(E26/Millimetres_in_metres/2)^2 -> 7.8539816 | F32: =F29*PI()*(F26/Millimetres_in_metres/2)^2 -> 23.561945 | G32: =G29*PI()*(G26/Millimetres_in_metres/2)^2 -> 47.12389 | H32: =H29*PI()*(H26/Millimetres_in_metres/2)^2 -> 78.539816 | I32: =I29*PI()*(I26/Millimetres_in_metres/2)^2 -> 109.95574 | J32: =J29*PI()*(J26/Millimetres_in_metres/2)^2 -> 141.37167 | K32: =K29*PI()*(K26/Millimetres_in_metres/2)^2 -> 172.7876 | L32: =L29*PI()*(L26/Millimetres_in_metres/2)^2 -> 7.8539816 | ... AT32: =AT29*PI()*(AT26/Millimetres_in_metres/2)^2 -> 172.7876
B33: Circulations | C33: # | E33: 4 | F33: =E33 -> 4 | G33: =F33 -> 4 | H33: =G33 -> 4 | I33: =H33 -> 4 | J33: =I33 -> 4 | K33: =J33 -> 4 | L33: =K33 -> 4 | M33: =L33 -> 4 | ... AT33: =AS33 -> 4
B34: Kill fluid volume | C34: kL | E34: =E33*E32 -> 31.415927 | F34: =F33*F32 -> 94.24778 | G34: =G33*G32 -> 188.49556 | H34: =H33*H32 -> 314.15927 | I34: =I33*I32 -> 439.82297 | J34: =J33*J32 -> 565.48668 | K34: =K33*K32 -> 691.15038 | L34: =L33*L32 -> 31.415927 | ... AT34: =AT33*AT32 -> 691.15038
B35: Fluid transport truck | C35: # of loads | E35: =ROUNDUP(E34/(Tanker_capacity),0) -> 2 | F35: =ROUNDUP(F34/(Tanker_capacity),0) -> 6 | G35: =ROUNDUP(G34/(Tanker_capacity),0) -> 11 | H35: =ROUNDUP(H34/(Tanker_capacity),0) -> 18 | I35: =ROUNDUP(I34/(Tanker_capacity),0) -> 25 | J35: =ROUNDUP(J34/(Tanker_capacity),0) -> 32 | K35: =ROUNDUP(K34/(Tanker_capacity),0) -> 39 | L35: =ROUNDUP(L34/(Tanker_capacity),0) -> 2 | ... AT35: =ROUNDUP(AT34/(Tanker_capacity),0) -> 39
B36: Pumping time | C36: hours | E36: =E34/(Kill_fluid_pumping_rate*Minutes_in_hour) -> 1.0471976 | F36: =F34/(Kill_fluid_pumping_rate*Minutes_in_hour) -> 3.1415927 | G36: =G34/(Kill_fluid_pumping_rate*Minutes_in_hour) -> 6.2831853 | H36: =H34/(Kill_fluid_pumping_rate*Minutes_in_hour) -> 10.471976 | I36: =I34/(Kill_fluid_pumping_rate*Minutes_in_hour) -> 14.660766 | J36: =J34/(Kill_fluid_pumping_rate*Minutes_in_hour) -> 18.849556 | K36: =K34/(Kill_fluid_pumping_rate*Minutes_in_hour) -> 23.038346 | L36: =L34/(Kill_fluid_pumping_rate*Minutes_in_hour) -> 1.0471976 | ... AT36: =AT34/(Kill_fluid_pumping_rate*Minutes_in_hour) -> 23.038346
B37: Kill fluid equipment time required | C37: hours | E37: =E36/Hours_per_day -> 0.10471976 | F37: =F36/Hours_per_day -> 0.31415927 | G37: =G36/Hours_per_day -> 0.62831853 | H37: =H36/Hours_per_day -> 1.0471976 | I37: =I36/Hours_per_day -> 1.4660766 | J37: =J36/Hours_per_day -> 1.8849556 | K37: =K36/Hours_per_day -> 2.3038346 | L37: =L36/Hours_per_day -> 0.10471976 | ... AT37: =AT36/Hours_per_day -> 2.3038346
B38: Kill fluid purchase cost | C38: kL | D38: 300 | E38: =$D38*E34 -> 9424.778 | F38: =$D38*F34 -> 28274.334 | G38: =$D38*G34 -> 56548.668 | H38: =$D38*H34 -> 94247.78 | I38: =$D38*I34 -> 131946.89 | J38: =$D38*J34 -> 169646 | K38: =$D38*K34 -> 207345.12 | L38: =$D38*L34 -> 9424.778 | ... AT38: =$D38*AT34 -> 207345.12
B39: Kill fluid pumping equipment cost | C39: day | D39: 5346.0878 | E39: =$D39*E37 -> 559.84101 | F39: =$D39*F37 -> 1679.523 | G39: =$D39*G37 -> 3359.046 | H39: =$D39*H37 -> 5598.4101 | I39: =$D39*I37 -> 7837.7741 | J39: =$D39*J37 -> 10077.138 | K39: =$D39*K37 -> 12316.502 | L39: =$D39*L37 -> 559.84101 | ... AT39: =$D39*AT37 -> 12316.502
B40: Kill fluid management cost | C40: day | D40: 4765.9378 | E40: =$D40*E37 -> 499.08784 | F40: =$D40*F37 -> 1497.2635 | G40: =$D40*G37 -> 2994.527 | H40: =$D40*H37 -> 4990.8784 | I40: =$D40*I37 -> 6987.2298 | J40: =$D40*J37 -> 8983.5811 | K40: =$D40*K37 -> 10979.932 | L40: =$D40*L37 -> 499.08784 | ... AT40: =$D40*AT37 -> 10979.932
B41: Kill fluid transport allowance | C41: per trip | D41: 545.21213 | E41: =$D41*E35 -> 1090.4243 | F41: =$D41*F35 -> 3271.2728 | G41: =$D41*G35 -> 5997.3335 | H41: =$D41*H35 -> 9813.8184 | I41: =$D41*I35 -> 13630.303 | J41: =$D41*J35 -> 17446.788 | K41: =$D41*K35 -> 21263.273 | L41: =$D41*L35 -> 1090.4243 | ... AT41: =$D41*AT35 -> 21263.273
B42: Total | C42: well | E42: =SUM(E38:E41) -> 11574.131 | F42: =SUM(F38:F41) -> 34722.393 | G42: =SUM(G38:G41) -> 68899.574 | H42: =SUM(H38:H41) -> 114650.89 | I42: =SUM(I38:I41) -> 160402.2 | J42: =SUM(J38:J41) -> 206153.51 | K42: =SUM(K38:K41) -> 251904.82 | L42: =SUM(L38:L41) -> 11574.131 | ... AT42: =SUM(AT38:AT41) -> 251904.82
B44: Remove downwell equipment
B45: Number of casing strings / completions | C45: # | E45: 1 | F45: =E45 -> 1 | G45: =F45 -> 1 | H45: =G45 -> 1 | I45: =H45 -> 1 | J45: =I45 -> 1 | K45: =J45 -> 1 | L45: =K45 -> 1 | M45: =L45 -> 1 | ... AT45: =AS45 -> 1
B46: Time to remove tubing and packers | C46: h | E46: =E45*(E29/1000*Productivity!$D$9) -> 2 | F46: =F45*(F29/1000*Productivity!$D$9) -> 6 | G46: =G45*(G29/1000*Productivity!$D$9) -> 12 | H46: =H45*(H29/1000*Productivity!$D$9) -> 20 | I46: =I45*(I29/1000*Productivity!$D$9) -> 28 | J46: =J45*(J29/1000*Productivity!$D$9) -> 36 | K46: =K45*(K29/1000*Productivity!$D$9) -> 44 | L46: =L45*(L29/1000*Productivity!$D$9) -> 2 | ... AT46: =AT45*(AT29/1000*Productivity!$D$9) -> 44
B47: Time to remove tubing and packers | C47: day | E47: =E46/Hours_per_day -> 0.2 | F47: =F46/Hours_per_day -> 0.6 | G47: =G46/Hours_per_day -> 1.2 | H47: =H46/Hours_per_day -> 2 | I47: =I46/Hours_per_day -> 2.8 | J47: =J46/Hours_per_day -> 3.6 | K47: =K46/Hours_per_day -> 4.4 | L47: =L46/Hours_per_day -> 0.2 | ... AT47: =AT46/Hours_per_day -> 4.4
...

Sheet Rates
C2: =Project_Name -> South Australia Oil and Gas Financial Assurance Calculator
C3: Return to Information
C4: Rates
C6: Item | D6: Rate Used | E6: Unit | F6: Notes | G6: Reference
B8: Consultant and trades | C8: Junior Engineer/Geologist/Scientist | D8: 155 | E8: hour | F8: Rolled-up rate including superannuation | G8: EHS Support indicative rate for projects of this nature
C9: Associate Engineer/Geologist/Scientist | D9: 180 | E9: hour | F9: Rolled-up rate including superannuation | G9: EHS Support indicative rate for projects of this nature
C10: Principal Engineer/Geologist/Scientist | D10: 250 | E10: hour | F10: Rolled-up rate including superannuation | G10: EHS Support indicative rate for projects of this nature
C11: Senior Principal Engineer/Geologist/Scientist | D11: 300 | E11: hour | F11: Rolled-up rate including superannuation | G11: EHS Support indicative rate for projects of this nature
C12: Project Manager | D12: 240 | E12: hour | F12: Rolled-up rate including superannuation | G12: EHS Support indicative rate for projects of this nature
C13: Senior Project Manager | D13: 280 | E13: hour | F13: Rolled-up rate including superannuation | G13: EHS Support indicative rate for projects of this nature
C14: Auditor/Director | D14: 420 | E14: hour | F14: Rolled-up rate including superannuation | G14: EHS Support indicative rate for projects of this nature
C15: Draftsman/Technician | D15: 160 | E15: hour | F15: Rolled-up rate including superannuation | G15: EHS Support indicative rate for projects of this nature
C16: Accounting/Administration/Clerical/Office Services | D16: 149.95 | E16: hour | F16: Rolled-up rate including superannuation | G16: EHS Support indicative rate for projects of this nature
C17: Rigger | D17: 146.2 | E17: hour | F17: Rolled-up rate including superannuation and office overheads | G17: Contractor
C18: Electrician | D18: 168.69 | E18: hour | F18: Rolled-up rate including superannuation and office overheads | G18: Contractor
C19: Foreperson | D19: 180 | E19: hour | F19: Rolled-up rate including superannuation and office overheads | G19: Contractor
C20: Labour (General) | D20: 84.344868 | E20: hour | F20: Rolled-up rate including superannuation and office overheads | G20: Contractor
... C23: Construction labour | D23: 103.09 | E23: hour | F23: Rolled-up rate including superannuation and office overheads | G23: Contractor
C24: Drilling engineer | D24: 116.03 | E24: hour | F24: Allowance
B25: Cranes and Platforms | C25: Crane 20t | D25: 260 | E25: hour | F25: includes fuel and operator, excludes rigger | G25: Crane supplier
C26: Crane 50t | D26: 432 | E26: hour | F26: includes fuel and operator, excludes rigger | G26: Crane supplier
C27: Crane 120t | D27: 732 | E27: hour | F27: includes fuel and operator, excludes rigger | G27: Crane supplier
C28: Elevated Work Platform 12m | D28: 8.5714286 | E28: hour | F28: 40ft electric scissor lift | G28: Crane supplier
B29: Dozers and Graders | C29: D6R Dozer | D29: 201.57 | E29: hour | F29: includes fuel and operator | G29: Earthmoving contractor
C30: D7R Dozer | D30: 222.69 | E30: hour | F30: includes fuel and operator | G30: Earthmoving contractor
C31: D8R Dozer | D31: 370 | E31: hour | F31: includes fuel and operator | G31: Earthmoving contractor
C32: D9R Dozer | D32: 405 | E32: hour | F32: includes fuel and operator | G32: Earthmoving contractor
C33: D10T Dozer | D33: 422.35 | E33: hour | F33: includes fuel and operator | G33: Earthmoving contractor
C34: D11T Dozer | D34: 546.32 | E34: hour | F34: includes fuel and operator | G34: Earthmoving contractor
C35: Grader 12M | D35: 252 | E35: hour | F35: includes fuel and operator | G35: Earthmoving contractor
C36: Grader 14M | D36: 264 | E36: hour | F36: includes fuel and operator | G36: Earthmoving contractor
C37: Grader 16M | D37: 305.42 | E37: hour | F37: includes fuel and operator | G37: Earthmoving contractor
B38: Excavators and Attachments | C38: Excavator 20t | D38: 270 | E38: hour | F38: includes fuel and operator | G38: Earthmoving contractor
C39: Excavator 40t | D39: 300 | E39: hour | F39: includes fuel and operator | G39: Earthmoving contractor
C40: Excavator 74t | D40: 456 | E40: hour | F40: includes fuel and operator | G40: Earthmoving contractor
C41: Excavator 90t | D41: 600 | E41: hour | F41: includes fuel and operator | G41: Earthmoving contractor
C42: Excavator 20t hammer | D42: 60 | E42: hour | F42: includes fuel and operator | G42: Earthmoving contractor
C43: Excavator 40t hammer | D43: 72 | E43: hour | F43: includes fuel and operator | G43: Earthmoving contractor
C44: Excavator 74t hammer | D44: 84 | E44: hour | F44: includes fuel and operator | G44: Earthmoving contractor
C45: Excavator 20t shears | D45: 60 | E45: hour | F45: includes fuel and operator | G45: Earthmoving contractor
...

Sheet Assumptions
B2: =Project_Name -> South Australia Oil and Gas Financial Assurance Calculator
B4: Assumptions
B5: Return to Information
B6: Description | C6: Value | D6: Unit | E6: Source | F6: Comment
B8: Camps
B9: Rock surface thickness for temporary camp | C9: 150 | D9: mm
B10: Bitumen surface thickness for temporary camp | C10: 100 | D10: mm
B11: Concrete surface thickness for temporary camp | C11: 0 | D11: mm
B12: Rock surface thickness for permanent camp | C12: 150 | D12: mm
B13: Bitumen surface thickness for temporary camp | C13: 100 | D13: mm
B14: Concrete surface thickness for temporary camp | C14: 100 | D14: mm
B16: Conversion
B17: Minutes in hour | C17: 60 | D17: min/h
B18: Kilograms in tonnes | C18: 1000 | D18: kg/t
B19: Metres in kilometres | C19: 1000 | D19: m/km
B20: Square metres in hectare | C20: 10000 | D20: sq.m/ha
B21: Litres in kilolitres | C21: 1000 | D21: L/kL
B22: Millimetres in metres | C22: 1000 | D22: mm/m
B23: Metres per min in kilometres per hour | C23: 17
B24: Speed - kph to m/min | C24: 16.666667 | D24: -
B25: Incidental Waste multiplier | C25: 0.25 | D25: -
B27: Dams and Ponds
B28: Liner | C28: 0.0021 | D28: t/m2
B29: Sediment - Contaminated dam | C29: 0.5 | D29: m
B30: Sediment - Clean dam | C30: 0.3 | D30: =D29 -> m
B31: Multiplier on base area for liner | C31: 1.2 | D31: X
B32: Growth media thickness dams | C32: 150 | D32: mm
B34: Electrical cable, pipeline, piping and fittings
B35: Pipe specific mass (300 mm diameter, STD) | C35: 73.86 | D35: kg/m
B36: Pipe specific mass (450 mm diameter, STD) | C36: 105.17 | D36: kg/m
B37: Pipe specific mass (600 mm diameter, STD) | C37: 141.12 | D37: kg/m
B38: Pipe / electrical tray specific mass | C38: 22 | D38: kg/m
B39: Valve and fittings multiplier for mass | C39: 0.5
B40: Electrical wiring specific mass (AWG 4/0, 200 amp) | C40: 0.96 | D40: t/km
B42: Land Rehabilitation
B43: =Top_soil -> Top soil | C43: 150 | D43: mm
B44: Gypsum Normal Soil | C44: 2.5 | D44: t/ha
B45: Gypsum Sodic Soil | C45: 10 | D45: t/ha
B46: Lime | C46: 2 | D46: t/ha
B47: Biosolids, MSW, Manure | C47: 50 | D47: t/ha
...

Sheet Productivity
B2: =Project_Name -> South Australia Oil and Gas Financial Assurance Calculator
B4: Productivity
B5: Return to Information
B7: Abandonment Rig Productivity
B8: Item | C8: Unit | D8: Value
B9: Time to remove tubing and packers | C9: h/1000 m | D9: 8 | E9: assumed
B10: Time to install one barrier | C10: days | D10: 3
B11: Kill fluid pumping rate | C11: m3/min | D11: 0.5
B13: Bioremediation
B14: Tilling | C14: 100 | D14: m3/h
B16: Concrete Crushing
B17: Concrete crushing rate to 75 mm | C17: 100 | D17: t/h
B18: Concrete crushing rate to 50 mm | C18: 66.666667 | D18: t/h
B19: Concrete crushing rate to 30 mm | C19: 50 | D19: t/h
B21: Dozer Grade (LCM/h) vs. Grading Distance
B22: Number of dozers | C22: 1 | D22: 1 | E22: 1 | F22: 1 | G22: 1 | H22: 1 | I22: 1 | J22: 2 | K22: 2 | L22: 3 | M22: 3 | N22: 3 | O22: 4
B23: Dozing distance (m) | C23: 20 | D23: 50 | E23: 75 | F23: 100 | G23: 125 | H23: 150 | I23: 200 | J23: 250 | K23: 300 | L23: 350 | M23: 400 | N23: 450 | O23: 500
B24: Dozer D6R | C24: 430 | D24: 195.75052 | E24: 150.30844 | F24: 104.86635 | G24: Too small | H24: Too small | I24: Too small | J24: Too small | K24: Too small | L24: Too small | M24: Too small | N24: Too small | O24: Too small
B25: Dozer D7R | C25: 582.59083 | D25: 349.5545 | E25: 262.16588 | F25: 174.77725 | G25: Too small | H25: Too small | I25: Too small | J25: Too small | K25: Too small | L25: Too small | M25: Too small | N25: Too small | O25: Too small
B26: =Dozer_D8R -> D8R Dozer | C26: 815.62717 | D26: 442.76903 | E26: 317.512 | F26: 192.25498 | G26: 130.50035 | H26: 97.098472 | I26: 69.9109 | J26: Too small | K26: Too small | L26: Too small | M26: Too small | N26: Too small | O26: Too small
B27: Dozer D9R | C27: 1165.1817 | D27: 652.50173 | E27: 483.55039 | F27: 314.59905 | G27: 223.71488 | H27: 194.19694 | I27: 139.8218 | J27: 298.8691 | K27: 201.34339 | L27: 190.15765 | M27: 178.9719 | N27: 167.78616 | O27: Too small
B28: Dozer D10T | C28: 1631.2543 | D28: 885.53807 | E28: 661.2406 | F28: 436.94313 | G28: 372.85813 | H28: 318.48299 | I28: 244.68815 | J28: 415.09597 | K28: 393.24881 | L28: 371.40166 | M28: 349.5545 | N28: 327.70734 | O28: 354.21523
B29: Dozer D11T | C29: 2796.436 | D29: 1398.218 | E29: 1048.6635 | F29: 699.109 | G29: 559.2872 | H29: 466.07267 | I29: 349.5545 | J29: 664.15355 | K29: 629.1981 | L29: 594.24265 | M29: 559.2872 | N29: 524.33175 | O29: 531.32284
B31: Dozer Grade (LCM/h) vs. Grading Distance Range | C31: {=TRANSPOSE(Dozer_lengths_L)} -> <= 20m push | D31: > 20m to <= 50m push | E31: > 50m to <= 75m push | F31: > 75m to <= 100m push | G31: > 100m to <= 125m push | H31: > 125m to <= 150m push | I31: > 150m to <= 200m push | J31: > 200m to <= 250m push | K31: > 250m to <= 300m push | L31: > 300m to <= 350m push | M31: > 350m to <= 400m push | N31: > 400m to <= 450m push | O31: > 450m to <= 500m push | P31: > 500m push
B32: Dozer D6R | C32: =IF(C24="Too small","Too small",C24) -> 430 | D32: =IF(C24="Too small","Too small",AVERAGE(C24:D24)) -> 312.87526 | E32: =IF(D24="Too small","Too small",AVERAGE(D24:E24)) -> 173.02948 | F32: =IF(E24="Too small","Too small",AVERAGE(E24:F24)) -> 127.58739 | G32: =IF(F24="Too small","Too small",AVERAGE(F24:G24)) -> 104.86635 | H32: =IF(G24="Too small","Too small",AVERAGE(G24:H24)) -> Too small | I32: =IF(H24="Too small","Too small",AVERAGE(H24:I24)) -> Too small | J32: =IF(I24="Too small","Too small",AVERAGE(I24:J24)) -> Too small | K32: =IF(J24="Too small","Too small",AVERAGE(J24:K24)) -> Too small | ... O32: =IF(N24="Too small","Too small",AVERAGE(N24:O24)) -> Too small | P32: =IF(O24="Too small","Too small",O24) -> Too small
B33: Dozer D7R | C33: =IF(C25="Too small","Too small",C25) -> 582.59083 | D33: =IF(C25="Too small","Too small",AVERAGE(C25:D25)) -> 466.07267 | E33: =IF(D25="Too small","Too small",AVERAGE(D25:E25)) -> 305.86019 | F33: =IF(E25="Too small","Too small",AVERAGE(E25:F25)) -> 218.47156 | G33: =IF(F25="Too small","Too small",AVERAGE(F25:G25)) -> 174.77725 | H33: =IF(G25="Too small","Too small",AVERAGE(G25:H25)) -> Too small | I33: =IF(H25="Too small","Too small",AVERAGE(H25:I25)) -> Too small | J33: =IF(I25="Too small","Too small",AVERAGE(I25:J25)) -> Too small | K33: =IF(J25="Too small","Too small",AVERAGE(J25:K25)) -> Too small | ... O33: =IF(N25="Too small","Too small",AVERAGE(N25:O25)) -> Too small | P33: =IF(O25="Too small","Too small",O25) -> Too small
